BEGIN:VCALENDAR
VERSION:2.0
PRODID:-//Welcome to Micomputsolutions - ECPv6.15.20//NONSGML v1.0//EN
CALSCALE:GREGORIAN
METHOD:PUBLISH
X-WR-CALNAME:Welcome to Micomputsolutions
X-ORIGINAL-URL:https://micomputsolutions.co.uk
X-WR-CALDESC:Events for Welcome to Micomputsolutions
REFRESH-INTERVAL;VALUE=DURATION:PT1H
X-Robots-Tag:noindex
X-PUBLISHED-TTL:PT1H
BEGIN:VTIMEZONE
TZID:Europe/London
BEGIN:DAYLIGHT
TZOFFSETFROM:+0000
TZOFFSETTO:+0100
TZNAME:BST
DTSTART:20240331T010000
END:DAYLIGHT
BEGIN:STANDARD
TZOFFSETFROM:+0100
TZOFFSETTO:+0000
TZNAME:GMT
DTSTART:20241027T010000
END:STANDARD
BEGIN:DAYLIGHT
TZOFFSETFROM:+0000
TZOFFSETTO:+0100
TZNAME:BST
DTSTART:20250330T010000
END:DAYLIGHT
BEGIN:STANDARD
TZOFFSETFROM:+0100
TZOFFSETTO:+0000
TZNAME:GMT
DTSTART:20251026T010000
END:STANDARD
BEGIN:DAYLIGHT
TZOFFSETFROM:+0000
TZOFFSETTO:+0100
TZNAME:BST
DTSTART:20260329T010000
END:DAYLIGHT
BEGIN:STANDARD
TZOFFSETFROM:+0100
TZOFFSETTO:+0000
TZNAME:GMT
DTSTART:20261025T010000
END:STANDARD
END:VTIMEZONE
BEGIN:VTIMEZONE
TZID:UTC
BEGIN:STANDARD
TZOFFSETFROM:+0000
TZOFFSETTO:+0000
TZNAME:UTC
DTSTART:20220101T000000
END:STANDARD
END:VTIMEZONE
BEGIN:VEVENT
DTSTART;TZID=Europe/London:20251211T103000
DTEND;TZID=Europe/London:20251211T133000
DTSTAMP:20260423T213947
CREATED:20251208T154119Z
LAST-MODIFIED:20251208T154215Z
UID:18925-1765449000-1765459800@micomputsolutions.co.uk
SUMMARY:Lambeth English Language Fair
DESCRIPTION:The Lambeth English Language Fair is coming! \nFatima (our Employer & Learner Engagement Officer) will be there to help you find a suitable course and different opportunities!💙 \nPlus\, you will be able to speak to various providers in one place. \nSo grab this opportunity and join the event: \n📅 Thursday\, 11th December\n🕜 10:30 am to 1:30 pm\n📍 Tate Streatham Library\, 63 Streatham High Road\, SW16 1PN \nWHAT TO EXPECT:\n🗣ESOL English classes\n📚 Adult education\n👩‍💻Employability support\n🤝Volunteer opportunities\n❤ Health and wellbeing\n💁🏽 and advice \nGrab your spot below!\nRegister here: Lambeth English language fair 11th December 2025
URL:https://micomputsolutions.co.uk/event/lambeth-english-language-fair/
LOCATION:Tate Streatham Library\, 63 Streatham High Road\,\, London\, Lambeth\, SW16 1PN\, United Kingdom
ATTACH;FMTTYPE=image/jpeg:https://micomputsolutions.co.uk/wp-content/uploads/2025/12/English-Language-Fair-original.jpg
END:VEVENT
BEGIN:VEVENT
DTSTART;TZID=Europe/London:20251211T100000
DTEND;TZID=Europe/London:20251211T140000
DTSTAMP:20260423T213947
CREATED:20251208T153500Z
LAST-MODIFIED:20251208T153837Z
UID:18919-1765447200-1765461600@micomputsolutions.co.uk
SUMMARY:MI Skills Pop Up: Are You Ready For What's Next?
DESCRIPTION:Join us at our “MI Skills Pop Up: Are You Ready For What’s Next?”. \nChat with Kristal (Admin Officer) and Melisa (Admin Volunteer & Learner) about how we can support your journey. Jerald (Content Creation Volunteer & Learner) will also be there to help. \n📆 Thursday\, 11th of December\n🕜 10 am to 2 pm\n📍 The Oasis Centre Waterloo\, 1 Kennington Rd\, SE1 7QP \nIt’s the perfect chance to explore new opportunities\, meet like-minded people\, and see what’s next for you. \nDon’t miss the fun\, learning\, and surprises! \nGrab your spot below! \nRegister here: MI Skills Pop-Up: Are You Ready For What’s Next? Tickets\, Thu 11 Dec 2025 at 10:00 | Eventbrite
URL:https://micomputsolutions.co.uk/event/mi-skills-pop-up-are-you-ready-for-whats-next/
LOCATION:The Oasis Centre Waterloo\, 1 Kennington Rd\, SE1 7QP\, London\, Waterlooo\, SE1 7QP\, United Kingdom
ATTACH;FMTTYPE=image/png:https://micomputsolutions.co.uk/wp-content/uploads/2025/12/image.png
END:VEVENT
BEGIN:VEVENT
DTSTART;TZID=UTC:20250424T100000
DTEND;TZID=UTC:20250424T150000
DTSTAMP:20260423T213947
CREATED:20250331T090004Z
LAST-MODIFIED:20250401T140727Z
UID:17722-1745488800-1745506800@micomputsolutions.co.uk
SUMMARY:Open Day
DESCRIPTION:JOIN US for our MI Skills Open Day 2025\, where you’ll have the opportunity to explore our wide range of courses\, meet our expert staff and experience firsthand what training at MI is all about. Whether you’re looking to upskill\, change careers or start fresh\, this is your chance to speak with our specialist advisers\, speak to our previous students\, ask questions and find the perfect course for you. \nThis is for anyone interested in upskilling their knowledge of: \n• Functional Skills Maths\n• Functional Skills English\n• ICT\n• ESOL\n• Computer Engineering\n• Teaching Assistant\n• Early Years Educator\n• Health & Social Care\nAnd many more! \nGet a taste of our dynamic learning environment through interactive sessions\, facility tours and live demonstrations. Don’t miss this chance to take the first step toward your future—come and see what makes MI the right place for your training and career development! \nCome along and learn about our courses and how to access them for FREE (subject to eligibility)! \nReverse your spot here!
URL:https://micomputsolutions.co.uk/event/open-day/
LOCATION:MI Skills Development centre Brixton\, 47a Bellefields Road Brixton\, London\, England\, SW9 9UH\, United Kingdom
ATTACH;FMTTYPE=image/jpeg:https://micomputsolutions.co.uk/wp-content/uploads/2025/03/v4-Open-day-2025.jpg
END:VEVENT
BEGIN:VEVENT
DTSTART;TZID=UTC:20241030T130000
DTEND;TZID=UTC:20241030T170000
DTSTAMP:20260423T213947
CREATED:20241010T120029Z
LAST-MODIFIED:20241105T092612Z
UID:17609-1730293200-1730307600@micomputsolutions.co.uk
SUMMARY:MI Skills Development Centre Learners Awards 2024
DESCRIPTION:YOU ARE CORDIALLY INVITED TO MISDC LEARNER AWARDS CELEBRATION \nMI SKILLS DEVELOPMENT CENTRE \nLearners Awards 2024 \nWe are excited to invite you to a special event honouring our remarkable learners’ hard work and accomplishments. \nCome and share in their successes\, meet the community\, and enjoy a day filled with joy and inspiration! \nWEDNESDAY 30th OCTOBER 2024\nDOORS OPEN 1 PM \nWe Are 336 Brixton Rd\, London SW9 7AA \nComplimentary food and drinks will be provided \nKindly RSVP by 30/10/2024 by calling 0207 501 6450
URL:https://micomputsolutions.co.uk/event/mi-skills-development-centre-learners-awards-2024/
LOCATION:We Are 336 Brixton Rd\, London SW9 7AA\, We Are 336 Brixton Rd\, London SW9 7AA\, London\, England\, SW9 7AA\, United Kingdom
ATTACH;FMTTYPE=image/png:https://micomputsolutions.co.uk/wp-content/uploads/2024/11/Screenshot-2024-11-04-at-13.19.33.png
END:VEVENT
BEGIN:VEVENT
DTSTART;TZID=UTC:20240726T100000
DTEND;TZID=UTC:20240726T150000
DTSTAMP:20260423T213947
CREATED:20240722T090031Z
LAST-MODIFIED:20240724T133931Z
UID:17049-1721988000-1722006000@micomputsolutions.co.uk
SUMMARY:MI Skills Development Centre Open Day
DESCRIPTION:Come along to: \n• Sign up to our taster sessions\n• Talk to our specialist tutors\n• Find out from previous learners how adult education changed their life\n• Check out our entire course offer \nFIND OUT MORE ABOUT OUR EDUCATIONAL OFFER \nLearn about the courses we offer and how to access them for FREE (subject to eligibility). \nWHAT TO BRING ALONG: \n• Valid Prood ID (Passport\, UK Birth Certificate or Residence permit Card)\n• Proof of right to live in the UK\n• Proof of the Last 3 months of your payslips or benefits (Universal Credit)
URL:https://micomputsolutions.co.uk/event/mi-skills-development-centre-open-day/
LOCATION:MI Skills Development centre Brixton\, 47a Bellefields Road Brixton\, London\, England\, SW9 9UH\, United Kingdom
CATEGORIES:Academics
ATTACH;FMTTYPE=image/png:https://micomputsolutions.co.uk/wp-content/uploads/2024/05/Open-day-Deptford-24.png
END:VEVENT
BEGIN:VEVENT
DTSTART;TZID=UTC:20231025T120000
DTEND;TZID=UTC:20231025T170000
DTSTAMP:20260423T213947
CREATED:20231025T090051Z
LAST-MODIFIED:20240724T135951Z
UID:12067-1698235200-1698253200@micomputsolutions.co.uk
SUMMARY:MI Skills Development Centre Learners Awards 2023
DESCRIPTION:YOU ARE CORDIALLY INVITED TO MISDC LEARNER AWARDS CELEBRATION \nMI SKILLS DEVELOPMENT CENTRE \nLearners Awards 2023 \nJoin us for an afternoon celebrating the dedication and hard work our learners have put in all year long. \nWEDNESDAY 25th OCTOBER 2023\nDOORS OPEN 2 PM \nThe Queen\, 47A Bellefields Road\,Brixton\, SW9 9UH \nComplimentary food and drinks will be provided \nKindly RSVP by 01/10/2023 by calling 0207 501 6450
URL:https://micomputsolutions.co.uk/event/flock-theory-seminar/
LOCATION:MI Skills Development centre Brixton\, 47a Bellefields Road Brixton\, London\, England\, SW9 9UH\, United Kingdom
CATEGORIES:Academics
ATTACH;FMTTYPE=image/png:https://micomputsolutions.co.uk/wp-content/uploads/2014/10/Learner-Awards-2022-23-002.png
END:VEVENT
END:VCALENDAR